BEGIN:VCALENDAR
VERSION:2.0
PRODID:-//Appaira - ECPv6.15.20//NONSGML v1.0//EN
CALSCALE:GREGORIAN
METHOD:PUBLISH
X-ORIGINAL-URL:https://rayoflightthemes.com/wordpress-themes/appaira-wordpress-theme
X-WR-CALDESC:Events for Appaira
REFRESH-INTERVAL;VALUE=DURATION:PT1H
X-Robots-Tag:noindex
X-PUBLISHED-TTL:PT1H
BEGIN:VTIMEZONE
TZID:UTC
BEGIN:STANDARD
TZOFFSETFROM:+0000
TZOFFSETTO:+0000
TZNAME:UTC
DTSTART:20250101T000000
END:STANDARD
END:VTIMEZONE
BEGIN:VEVENT
DTSTART;TZID=UTC:20260718T000000
DTEND;TZID=UTC:20260718T235900
DTSTAMP:20260425T154739
CREATED:20250831T160024Z
LAST-MODIFIED:20250901T092512Z
UID:2512-1784332800-1784419140@rayoflightthemes.com
SUMMARY:Inspire & Network: An Evening of Connections
DESCRIPTION:
URL:https://rayoflightthemes.com/wordpress-themes/appaira-wordpress-theme/event/inspire-network-an-evening-of-connections/
LOCATION:Meeting\, Main Street\, New York\, United States
ATTACH;FMTTYPE=image/webp:https://rayoflightthemes.com/wordpress-themes/appaira-wordpress-theme/wp-content/uploads/2025/08/placeholder-21.webp
END:VEVENT
END:VCALENDAR