BEGIN:VCALENDAR
VERSION:2.0
PRODID:-//Appaira - ECPv6.15.20//NONSGML v1.0//EN
CALSCALE:GREGORIAN
METHOD:PUBLISH
X-ORIGINAL-URL:https://rayoflightthemes.com/wordpress-themes/appaira-wordpress-theme
X-WR-CALDESC:Events for Appaira
REFRESH-INTERVAL;VALUE=DURATION:PT1H
X-Robots-Tag:noindex
X-PUBLISHED-TTL:PT1H
BEGIN:VTIMEZONE
TZID:UTC
BEGIN:STANDARD
TZOFFSETFROM:+0000
TZOFFSETTO:+0000
TZNAME:UTC
DTSTART:20250101T000000
END:STANDARD
END:VTIMEZONE
BEGIN:VEVENT
DTSTART;TZID=UTC:20260506T080000
DTEND;TZID=UTC:20260506T170000
DTSTAMP:20260425T131134
CREATED:20250831T160858Z
LAST-MODIFIED:20250831T162710Z
UID:2525-1778054400-1778086800@rayoflightthemes.com
SUMMARY:Seasonal Launch Party
DESCRIPTION:
URL:https://rayoflightthemes.com/wordpress-themes/appaira-wordpress-theme/event/seasonal-launch-party/
LOCATION:Online and Offline\, 123 Main Street\, New York\, United States
ATTACH;FMTTYPE=image/webp:https://rayoflightthemes.com/wordpress-themes/appaira-wordpress-theme/wp-content/uploads/2025/08/placeholder-23.webp
END:VEVENT
BEGIN:VEVENT
DTSTART;TZID=UTC:20260510T080000
DTEND;TZID=UTC:20260510T170000
DTSTAMP:20260425T131134
CREATED:20250831T162528Z
LAST-MODIFIED:20250831T162528Z
UID:2540-1778400000-1778432400@rayoflightthemes.com
SUMMARY:A limited-time sale offering significant discounts
DESCRIPTION:
URL:https://rayoflightthemes.com/wordpress-themes/appaira-wordpress-theme/event/a-limited-time-sale-offering-significant-discounts/
LOCATION:Online and Offline\, 123 Main Street\, New York\, United States
ATTACH;FMTTYPE=image/webp:https://rayoflightthemes.com/wordpress-themes/appaira-wordpress-theme/wp-content/uploads/2025/08/placeholder-25.webp
END:VEVENT
END:VCALENDAR